BEGIN:VCALENDAR
VERSION:2.0
PRODID:-// - ECPv6.15.12.2//NONSGML v1.0//EN
CALSCALE:GREGORIAN
METHOD:PUBLISH
X-ORIGINAL-URL:https://test.khk.rwth-aachen.de
X-WR-CALDESC:Events for 
REFRESH-INTERVAL;VALUE=DURATION:PT1H
X-Robots-Tag:noindex
X-PUBLISHED-TTL:PT1H
BEGIN:VTIMEZONE
TZID:Europe/Helsinki
BEGIN:DAYLIGHT
TZOFFSETFROM:+0200
TZOFFSETTO:+0300
TZNAME:EEST
DTSTART:20210328T010000
END:DAYLIGHT
BEGIN:STANDARD
TZOFFSETFROM:+0300
TZOFFSETTO:+0200
TZNAME:EET
DTSTART:20211031T010000
END:STANDARD
BEGIN:DAYLIGHT
TZOFFSETFROM:+0200
TZOFFSETTO:+0300
TZNAME:EEST
DTSTART:20220327T010000
END:DAYLIGHT
BEGIN:STANDARD
TZOFFSETFROM:+0300
TZOFFSETTO:+0200
TZNAME:EET
DTSTART:20221030T010000
END:STANDARD
BEGIN:DAYLIGHT
TZOFFSETFROM:+0200
TZOFFSETTO:+0300
TZNAME:EEST
DTSTART:20230326T010000
END:DAYLIGHT
BEGIN:STANDARD
TZOFFSETFROM:+0300
TZOFFSETTO:+0200
TZNAME:EET
DTSTART:20231029T010000
END:STANDARD
END:VTIMEZONE
BEGIN:VEVENT
DTSTART;TZID=Europe/Helsinki:20221102T170000
DTEND;TZID=Europe/Helsinki:20221102T183000
DTSTAMP:20260422T051247
CREATED:20221004T081602Z
LAST-MODIFIED:20221220T110149Z
UID:4328-1667408400-1667413800@test.khk.rwth-aachen.de
SUMMARY:Trials of implicitness: technology testing beyond the laboratory or the coming crisis of experimental accountability (Noortje Marres)
DESCRIPTION:c:o/re Lecture Series: Cultures of Research\nOn Wednesday\, November 2nd\, STS researcher and Professor at Warwick University\, UK\, Noortje Marres\, will talk about Trials of implicitness: technology testing beyond the laboratory or the coming crisis of experimental accountability. The talk is part of the c:o/re Lecture Series: Cultures of Research. It will be held online. \nTo participlate\, please register with events@khk.rwth-aachen.de
URL:https://test.khk.rwth-aachen.de/event/trials-of-implicitness-technology-testing-beyond-the-laboratory-or-the-coming-crisis-of-experimental-accountability-noortje-marres/
LOCATION:Stadtpalais/Online\, Theaterstraße 75\, Aachen\, 52062\, Germany
CATEGORIES:Lecture Series,Lecture Series 22/23
ATTACH;FMTTYPE=image/png:https://test.khk.rwth-aachen.de/wp-content/uploads/2022/09/Lecture-Series22-23-e1671531451654.png
ORGANIZER;CN="c%3Ao/re":MAILTO:events@khk.rwth-aachen.de
END:VEVENT
BEGIN:VEVENT
DTSTART;TZID=Europe/Helsinki:20221108T110000
DTEND;TZID=Europe/Helsinki:20221108T160000
DTSTAMP:20260422T051247
CREATED:20221026T133917Z
LAST-MODIFIED:20221028T091413Z
UID:4563-1667905200-1667923200@test.khk.rwth-aachen.de
SUMMARY:Engineering Practices Workshop: New Horizons in the Social Study of Science and Software
DESCRIPTION:Program\n11:00         Dawid Kasprowicz: Managing the unmanageable: Is Software Engineering the art or science of scientific programming? \nDiscussant: Ben Peters \n12:00         Phillip H. Roth: Scientific communication in the Age of Software: Sorting out Materiality\, Community and Infrastructure \nDiscussant: Arianna Borrelli \n13:00         lunch break \n14:30         Roundtable on the Social Study of Science and Software – Issues\, Approaches\, Ideas \nAna María Guzmán Olmos\, Alexandre Hocquet\, Catharina Landström\, Clarissa Lee\, Alin Olteanu\, Frédéric Wieber \nYou can find the program as pdf here. \nRegistration is closed. \n  \n  \n  \n  \n 
URL:https://test.khk.rwth-aachen.de/event/engineering-practices-workshop-new-horizons-in-the-social-study-of-science-and-software/
LOCATION:Stadtpalais\, Theaterstraße 75\, Aachen\, 52062\, Germany
ATTACH;FMTTYPE=image/png:https://test.khk.rwth-aachen.de/wp-content/uploads/2022/10/Floppy.png
ORGANIZER;CN="c%3Ao/re":MAILTO:events@khk.rwth-aachen.de
END:VEVENT
BEGIN:VEVENT
DTSTART;TZID=Europe/Helsinki:20221111T190000
DTEND;TZID=Europe/Helsinki:20221111T233000
DTSTAMP:20260422T051247
CREATED:20221021T081522Z
LAST-MODIFIED:20221021T081836Z
UID:4527-1668193200-1668209400@test.khk.rwth-aachen.de
SUMMARY:c:o/re @ RWTH Wissenschaftsnacht
DESCRIPTION:On November 11th\, 2022\, you can find us at the RWTH Wissenschaftsnacht in Aachen. Together with many other cool projects (check out the program here) you can find us at the C.A.R.L. (Claßenstraße 11)\, where we will unbox science together with you! Come by if you are interested in discussing how science gets made in the digital age.
URL:https://test.khk.rwth-aachen.de/event/co-re-rwth-wissenschaftsnacht/
LOCATION:RWTH Aachen\, C.A.R.L.\, Claßenstraße 11\, Aachen\, 52072\, Germany
ATTACH;FMTTYPE=image/png:https://test.khk.rwth-aachen.de/wp-content/uploads/2022/10/RWTHWissNacht.png
END:VEVENT
BEGIN:VEVENT
DTSTART;TZID=Europe/Helsinki:20221116T170000
DTEND;TZID=Europe/Helsinki:20221116T183000
DTSTAMP:20260422T051247
CREATED:20221004T081616Z
LAST-MODIFIED:20221220T110149Z
UID:4336-1668618000-1668623400@test.khk.rwth-aachen.de
SUMMARY:Engaging publics in open anticipatory governance of technology (Andoni Ibarra) - CANCELLED!
DESCRIPTION:c:o/re Lecture Series: Cultures of Research\nThe lecture on Wednesday\, November 16th\, by Andoni Ibarra\, Professor of Philosophy of Science at the University of the Basque Country (UPV/EHU)\, has been cancelled. The talk was scheduled as part of the c:o/re Lecture Series: Cultures of Research. \nTo participlate\, please register with events@khk.rwth-aachen.de
URL:https://test.khk.rwth-aachen.de/event/engaging-publics-in-open-anticipatory-governance-of-technology-andoni-ibarra/
LOCATION:Stadtpalais/Online\, Theaterstraße 75\, Aachen\, 52062\, Germany
CATEGORIES:Lecture Series,Lecture Series 22/23
ATTACH;FMTTYPE=image/png:https://test.khk.rwth-aachen.de/wp-content/uploads/2022/09/Lecture-Series22-23-e1671531451654.png
ORGANIZER;CN="c%3Ao/re":MAILTO:events@khk.rwth-aachen.de
END:VEVENT
BEGIN:VEVENT
DTSTART;TZID=Europe/Helsinki:20221130T170000
DTEND;TZID=Europe/Helsinki:20221130T183000
DTSTAMP:20260422T051247
CREATED:20221004T081629Z
LAST-MODIFIED:20221220T110149Z
UID:4340-1669827600-1669833000@test.khk.rwth-aachen.de
SUMMARY:The prospects of Institutionalising the Values ‘Openness’ and ‘Responsiveness’ in the Scientific Community (René von Schomberg)
DESCRIPTION:c:o/re Lecture Series: Cultures of Research\nOn Wednesday\, November 30th\, Guest Professor at the Technical University of Darmstadt\, René von Schomberg\, will talk about The prospects of Institutionalising the Values ‘Openness’ and ‘Responsiveness’ in the Scientific Community. The talk is part of the c:o/re Lecture Series: Cultures of Research. \nTo participlate\, please register with events@khk.rwth-aachen.de
URL:https://test.khk.rwth-aachen.de/event/the-prospects-of-institutionalising-the-values-openness-and-responsiveness-in-the-scientific-community-rene-von-schomberg/
LOCATION:Stadtpalais/Online\, Theaterstraße 75\, Aachen\, 52062\, Germany
CATEGORIES:Lecture Series,Lecture Series 22/23
ATTACH;FMTTYPE=image/png:https://test.khk.rwth-aachen.de/wp-content/uploads/2022/09/Lecture-Series22-23-e1671531451654.png
ORGANIZER;CN="c%3Ao/re":MAILTO:events@khk.rwth-aachen.de
END:VEVENT
END:VCALENDAR