BEGIN:VCALENDAR
VERSION:2.0
PRODID:-// - ECPv6.15.12.2//NONSGML v1.0//EN
CALSCALE:GREGORIAN
METHOD:PUBLISH
X-ORIGINAL-URL:https://test.khk.rwth-aachen.de
X-WR-CALDESC:Events for 
REFRESH-INTERVAL;VALUE=DURATION:PT1H
X-Robots-Tag:noindex
X-PUBLISHED-TTL:PT1H
BEGIN:VTIMEZONE
TZID:Europe/Helsinki
BEGIN:DAYLIGHT
TZOFFSETFROM:+0200
TZOFFSETTO:+0300
TZNAME:EEST
DTSTART:20210328T010000
END:DAYLIGHT
BEGIN:STANDARD
TZOFFSETFROM:+0300
TZOFFSETTO:+0200
TZNAME:EET
DTSTART:20211031T010000
END:STANDARD
BEGIN:DAYLIGHT
TZOFFSETFROM:+0200
TZOFFSETTO:+0300
TZNAME:EEST
DTSTART:20220327T010000
END:DAYLIGHT
BEGIN:STANDARD
TZOFFSETFROM:+0300
TZOFFSETTO:+0200
TZNAME:EET
DTSTART:20221030T010000
END:STANDARD
BEGIN:DAYLIGHT
TZOFFSETFROM:+0200
TZOFFSETTO:+0300
TZNAME:EEST
DTSTART:20230326T010000
END:DAYLIGHT
BEGIN:STANDARD
TZOFFSETFROM:+0300
TZOFFSETTO:+0200
TZNAME:EET
DTSTART:20231029T010000
END:STANDARD
END:VTIMEZONE
BEGIN:VEVENT
DTSTART;TZID=Europe/Helsinki:20220530T133000
DTEND;TZID=Europe/Helsinki:20220601T120000
DTSTAMP:20260423T173525
CREATED:20230118T173157Z
LAST-MODIFIED:20230125T145817Z
UID:5615-1653917400-1654084800@test.khk.rwth-aachen.de
SUMMARY:The Use of Networks in Humanities and Social Sciences. Model\, Metaphor\, Method (Ana Bazzan with Phillip H. Roth and Alin Olteanu)
DESCRIPTION:The workshop organised by Ana Bazzan with Phillip H. Roth and Alin Olteanu charts the use of networks in humanities and social sciences and the consequences of their use for the way we perceive and understand science\, society and the world. \nPlease find the program here.
URL:https://test.khk.rwth-aachen.de/event/the-use-of-networks-in-humanities-and-social-sciences-model-metaphor-method-ana-bazzan-with-phillip-h-roth-and-alin-olteanu/
LOCATION:Stadtpalais/Online\, Theaterstraße 75\, Aachen\, 52062\, Germany
CATEGORIES:Workshops
ORGANIZER;CN="c%3Ao/re":MAILTO:events@khk.rwth-aachen.de
END:VEVENT
BEGIN:VEVENT
DTSTART;TZID=Europe/Helsinki:20220601T170000
DTEND;TZID=Europe/Helsinki:20220601T190000
DTSTAMP:20260423T173525
CREATED:20221130T153617Z
LAST-MODIFIED:20221220T110149Z
UID:5104-1654102800-1654110000@test.khk.rwth-aachen.de
SUMMARY:How will humans treat AI? Or\, Human social intelligence meets artificial intelligence (Ophelia Deroy)
DESCRIPTION:Ophelia Deroy is Professor of philosophy of mind at the Ludwig-Maximilians-Universität München. Her talk will discuss aspects of experience and thought which challenge individuals’ capacity for rational justification or even reflective awareness as part of her research on the interface of philosophy of mind and cognitive neurosciences. \nThe talk is part of the c:o/re Lecture Series Cultures of Research – Philosophy of AI_Optimist and Pessimist Views.
URL:https://test.khk.rwth-aachen.de/event/how-will-humans-treat-ai-or-human-social-intelligence-meets-artificial-intelligence-ophelia-deroy/
LOCATION:Stadtpalais/Online\, Theaterstraße 75\, Aachen\, 52062\, Germany
CATEGORIES:Lecture Series,Lecture Series 2022
ATTACH;FMTTYPE=image/png:https://test.khk.rwth-aachen.de/wp-content/uploads/2022/11/Copy-of-CO-RE-1.png
ORGANIZER;CN="c%3Ao/re":MAILTO:events@khk.rwth-aachen.de
END:VEVENT
BEGIN:VEVENT
DTSTART;TZID=Europe/Helsinki:20220614T170000
DTEND;TZID=Europe/Helsinki:20220614T190000
DTSTAMP:20260423T173525
CREATED:20230118T173919Z
LAST-MODIFIED:20230125T145736Z
UID:5617-1655226000-1655233200@test.khk.rwth-aachen.de
SUMMARY:Lecture: An-Archaeology and Spectral Realism (Hilan Bensusan)
DESCRIPTION:An-archaeology is a procedure to reshape the official foundational accounts of thought through adding virtual and counterfactual narratives. It springs from a certain mistrust in the capacity of any starting point to ground what comes next – and from the idea that no beginning is oblivious to its others. As such it is an attempt to think through the unruled; it comes close to what Emmanuel Levinas meant when he wrote “true as only fiction can be”. \nSpectral realism is the belief in what haunts – even though\, as Juliana Martinez professes\, it is worth paying more attention to the haunting than to the ghost. It is an attempt to look towards the past through its effects in lores\, traumas\, inheritances and recurrent images. Saidya Hartman is engaging with specters when she tries to narrate what the past has systematically obliterated. Spectral realism is a stance towards the memory according to which the past is its salient mode of existence. \nBoth endeavors relate to the Aristotelian quest for the drawing line between remembering and imagining. Both draw on how memory cannot be thought through without the mutual imbrication of retention and retrieval – to refer to the main characters of the philosophy of memory that John Locke once rehearsed. This talk will explore what both an-archaeology and spectral realism have to say together about the past and what we could do with it. \nPlease find the abstract and more information about the speaker here.
URL:https://test.khk.rwth-aachen.de/event/lecture-an-archaeology-and-spectral-realism-hilan-bensusan/
LOCATION:Stadtpalais/Online\, Theaterstraße 75\, Aachen\, 52062\, Germany
CATEGORIES:Workshops
ORGANIZER;CN="c%3Ao/re":MAILTO:events@khk.rwth-aachen.de
END:VEVENT
BEGIN:VEVENT
DTSTART;VALUE=DATE:20220615
DTEND;VALUE=DATE:20220619
DTSTAMP:20260423T173525
CREATED:20221004T104925Z
LAST-MODIFIED:20221004T104925Z
UID:4424-1655251200-1655596799@test.khk.rwth-aachen.de
SUMMARY:4th conference of the International Association of Cognitive Semiotics (IACS)
DESCRIPTION:The 4th conference of the International Association of Cognitive Semiotics (IACS)\, which will take place on June 15-18\, 2022\, is hosted by RWTH Aachen University. Particularly\, the Chair of Semiotics and Cognitive Linguistics (Professor Irene Mittelberg\, Professor Martin Thiering) is hosting this conference with the assistance of c:o/re (Professor Gabriele Grameslberger\, Dr. Alin Olteanu) and\, also\, colleagues from KU Leuven. The topic of the conference is Semiotic Complexities – Theory & Analysis. The c:o/re team is organizing a panel on “Semiotic Approaches to Research Cultures” (see conference program).
URL:https://test.khk.rwth-aachen.de/event/4th-conference-of-the-international-association-of-cognitive-semiotics-iacs/
LOCATION:RWTH Aachen University\, Templergraben 55\, Aachen\, 52062\, Germany
CATEGORIES:Conference
ATTACH;FMTTYPE=image/jpeg:https://test.khk.rwth-aachen.de/wp-content/uploads/2022/10/IACS4_RWTH-Aachen.jpg
ORGANIZER;CN="c%3Ao/re":MAILTO:events@khk.rwth-aachen.de
END:VEVENT
BEGIN:VEVENT
DTSTART;TZID=Europe/Helsinki:20220621T100000
DTEND;TZID=Europe/Helsinki:20220623T170000
DTSTAMP:20260423T173525
CREATED:20230118T174507Z
LAST-MODIFIED:20230125T145657Z
UID:5619-1655805600-1656003600@test.khk.rwth-aachen.de
SUMMARY:Art’s Realism in the Post-Truth Era (Amanda Boetzkes)
DESCRIPTION:  \nThe last decade has seen a growing preoccupation with philosophies of realism from artists\, curators\, theorists and historians. But while the arts benefit from this domain of philosophical inquiry\, the reverse is also true: the significance of realism in an era characterized by global warming\, migrations\, and fake news can only be fully understood by attending to the ways that art mediates\, visualizes\, and even shapes reality. Taking art’s constitutive relationship to realism seriously\, this workshop organised by Amanda Boetzkes intervenes on contemporary debates about realism by demonstrating that the arts do not simply illustrate philosophical theories\, they require its redefinition. The contributors will demonstrate such reconceptualizations of realism and through its aesthetic dimensions not only in the visual arts\, but also in sound art\, performance and scientific imaging. Bringing together advanced scholars from art history\, media studies\,philosophy\, literature and visual arts\, the workshop foregrounds the importance of art’s realism in a global ecology that crosses the boundaries of discipline and medium. \nPlease find the program here.
URL:https://test.khk.rwth-aachen.de/event/arts-realism-in-the-post-truth-era-amanda-boetzkes/
LOCATION:Haus Matthéy/ Stadtpalais
CATEGORIES:Workshops
ORGANIZER;CN="c%3Ao/re":MAILTO:events@khk.rwth-aachen.de
END:VEVENT
BEGIN:VEVENT
DTSTART;TZID=Europe/Helsinki:20220629T093000
DTEND;TZID=Europe/Helsinki:20220630T160000
DTSTAMP:20260423T173525
CREATED:20230118T174951Z
LAST-MODIFIED:20230125T145624Z
UID:5622-1656495000-1656604800@test.khk.rwth-aachen.de
SUMMARY:Open Scholarship\, Responsible Innovation and Anticipatory Governance (René von Schomberg and Andoni Ibarra)
DESCRIPTION:The workshop organised by René von Schomberg and Andoni Ibarra tackles some ‘lead questions’ in open science\, responsible innovation and anticipatory governance. Some of those are: Can open scholarship make science more reliable\, responsive\, credible and inclusive? And does open scholarship lead to a better scientific practice? How should open scholarship be incentivised? What is the significance of anticipatory governance for open science and responsible research and innovation? How do we conceptualize “anticipation” in such a way that it leads to open anticipatory governance? How can we assess anticipatory governance? These and other questions will be discussed at an open round table. \nPlease find the program here.
URL:https://test.khk.rwth-aachen.de/event/open-scholarship-responsible-innovation-and-anticipatory-governance-rene-von-schomberg-and-andoni-ibarra/
LOCATION:Stadtpalais/Online\, Theaterstraße 75\, Aachen\, 52062\, Germany
CATEGORIES:Workshops
ORGANIZER;CN="c%3Ao/re":MAILTO:events@khk.rwth-aachen.de
END:VEVENT
END:VCALENDAR