BEGIN:VCALENDAR
VERSION:2.0
PRODID:-// - ECPv6.15.12.2//NONSGML v1.0//EN
CALSCALE:GREGORIAN
METHOD:PUBLISH
X-ORIGINAL-URL:https://test.khk.rwth-aachen.de
X-WR-CALDESC:Events for 
REFRESH-INTERVAL;VALUE=DURATION:PT1H
X-Robots-Tag:noindex
X-PUBLISHED-TTL:PT1H
BEGIN:VTIMEZONE
TZID:Europe/Helsinki
BEGIN:DAYLIGHT
TZOFFSETFROM:+0200
TZOFFSETTO:+0300
TZNAME:EEST
DTSTART:20210328T010000
END:DAYLIGHT
BEGIN:STANDARD
TZOFFSETFROM:+0300
TZOFFSETTO:+0200
TZNAME:EET
DTSTART:20211031T010000
END:STANDARD
BEGIN:DAYLIGHT
TZOFFSETFROM:+0200
TZOFFSETTO:+0300
TZNAME:EEST
DTSTART:20220327T010000
END:DAYLIGHT
BEGIN:STANDARD
TZOFFSETFROM:+0300
TZOFFSETTO:+0200
TZNAME:EET
DTSTART:20221030T010000
END:STANDARD
BEGIN:DAYLIGHT
TZOFFSETFROM:+0200
TZOFFSETTO:+0300
TZNAME:EEST
DTSTART:20230326T010000
END:DAYLIGHT
BEGIN:STANDARD
TZOFFSETFROM:+0300
TZOFFSETTO:+0200
TZNAME:EET
DTSTART:20231029T010000
END:STANDARD
END:VTIMEZONE
BEGIN:VEVENT
DTSTART;TZID=Europe/Helsinki:20220504T170000
DTEND;TZID=Europe/Helsinki:20220504T190000
DTSTAMP:20260424T095731
CREATED:20221130T144624Z
LAST-MODIFIED:20221220T110117Z
UID:5093-1651683600-1651690800@test.khk.rwth-aachen.de
SUMMARY:Space\, Literacy and Citizenship in the Digitalization of Law (Jean Lassègue)
DESCRIPTION:Jean Lassègue is Senior Researcher at CNRS (National Scientific Research Centre) and member of the École des hautes études en sciences sociales (EHESS). His talk will give insight into his work around the history and epistemology of computer science\, theory of forms and symbolic activities\, from exact sciences to sciences of culture and an anthropology of writing and of law. \nThe talk is part of the c:o/re Lecture Series Cultures of Research – Philosophy of AI_Optimist and Pessimist Views.
URL:https://test.khk.rwth-aachen.de/event/space-literacy-and-citizenship-in-the-digitalization-of-law-jean-lassegue/
LOCATION:Stadtpalais/Online\, Theaterstraße 75\, Aachen\, 52062\, Germany
CATEGORIES:Lecture Series,Lecture Series 2022
ATTACH;FMTTYPE=image/png:https://test.khk.rwth-aachen.de/wp-content/uploads/2022/11/Copy-of-CO-RE-1.png
ORGANIZER;CN="c%3Ao/re":MAILTO:events@khk.rwth-aachen.de
END:VEVENT
BEGIN:VEVENT
DTSTART;TZID=Europe/Helsinki:20220511T170000
DTEND;TZID=Europe/Helsinki:20220511T190000
DTSTAMP:20260424T095731
CREATED:20221130T145652Z
LAST-MODIFIED:20221220T110116Z
UID:5098-1652288400-1652295600@test.khk.rwth-aachen.de
SUMMARY:Explainable and Verifiable Machine Learning. A Grand Challenge for Computer Science (Kim Guldstrand Larsen)
DESCRIPTION:Kim Guldstrand Larsen is professor in the Department of Computer Science at Aalborg University within the Distributed\, Embedded Systems and Intelligent (DEIS) Unit and director of the ICT-competence center CISS\, Center for Embedded Software Systems. Being the prime investigator of the award winning tool UPPAAL as well as its branches\, his talk will highlight ongoing research towards explainable and verifiable learning-based CPS pursued within the context of the modelling and verification tool UPPAAL\nStratego. \nThe talk is part of the c:o/re Lecture Series Cultures of Research – Philosophy of AI_Optimist and Pessimist Views. \n 
URL:https://test.khk.rwth-aachen.de/event/explainable-and-verifiable-machine-learning-a-grand-challenge-for-computer-science-kim-guldstrand-larsen/
LOCATION:Stadtpalais/Online\, Theaterstraße 75\, Aachen\, 52062\, Germany
CATEGORIES:Lecture Series,Lecture Series 2022
ATTACH;FMTTYPE=image/png:https://test.khk.rwth-aachen.de/wp-content/uploads/2022/11/Copy-of-CO-RE-1.png
ORGANIZER;CN="c%3Ao/re":MAILTO:events@khk.rwth-aachen.de
END:VEVENT
BEGIN:VEVENT
DTSTART;TZID=Europe/Helsinki:20220518T120000
DTEND;TZID=Europe/Helsinki:20220519T120000
DTSTAMP:20260424T095731
CREATED:20230118T172546Z
LAST-MODIFIED:20230125T145836Z
UID:5613-1652875200-1652961600@test.khk.rwth-aachen.de
SUMMARY:The Human Measure and the Measure of all Minds (Steve Fuller)
DESCRIPTION:The workshop addresses the big questions that post- and transhumanism are tackling with: What does it mean to be ‘human’? To what extent does being human depend on the existence of the ‘non-human’? Can a being transition in and out of being ‘human’? Can qualities such as mentality and personhood\, which have been seen as distinctly human\, be realized – perhaps even more fully – in non-human beings? The workshop title is inspired by Jose Hernandez Orallo who will also give a presentation. \nAn opening statement on the topic of the workshop by Steve Fuller can be found in our blog. \nPlease find the programm here.
URL:https://test.khk.rwth-aachen.de/event/the-human-measure-and-the-measure-of-all-minds-steve-fuller/
LOCATION:Stadtpalais/Online\, Theaterstraße 75\, Aachen\, 52062\, Germany
CATEGORIES:Workshops
ORGANIZER;CN="c%3Ao/re":MAILTO:events@khk.rwth-aachen.de
END:VEVENT
BEGIN:VEVENT
DTSTART;TZID=Europe/Helsinki:20220518T170000
DTEND;TZID=Europe/Helsinki:20220518T190000
DTSTAMP:20260424T095731
CREATED:20221130T150540Z
LAST-MODIFIED:20221220T110116Z
UID:5100-1652893200-1652900400@test.khk.rwth-aachen.de
SUMMARY:Calibrating expectations about AI: A renewed endeavour towards the measurement of behaviour (Jose Hernandez Orallo)
DESCRIPTION:Jose Hernandez Orallo is Professor at the Valencian Graduate School and Research Network of Artificial Intelligence\, which is a non-profit foundation made up of the Generalitat Valenciana\, companies and the five public universities of the Valencian Community. His talk will be discussing his work around the evaluation and measurement of intelligent systems in general and machine learning in particular\, as well as more applied research on data science\, data mining and inductive programming.  \nThe talk is part of the c:o/re Lecture Series Cultures of Research – Philosophy of AI_Optimist and Pessimist Views.
URL:https://test.khk.rwth-aachen.de/event/calibrating-expectations-about-ai-a-renewed-endeavour-towards-the-measurement-of-behaviour-jose-hernandez-orallo/
LOCATION:Stadtpalais/Online\, Theaterstraße 75\, Aachen\, 52062\, Germany
CATEGORIES:Lecture Series,Lecture Series 2022
ATTACH;FMTTYPE=image/png:https://test.khk.rwth-aachen.de/wp-content/uploads/2022/11/Copy-of-CO-RE-1.png
ORGANIZER;CN="c%3Ao/re":MAILTO:events@khk.rwth-aachen.de
END:VEVENT
BEGIN:VEVENT
DTSTART;TZID=Europe/Helsinki:20220525T170000
DTEND;TZID=Europe/Helsinki:20220525T190000
DTSTAMP:20260424T095731
CREATED:20221130T152058Z
LAST-MODIFIED:20221220T110116Z
UID:5102-1653498000-1653505200@test.khk.rwth-aachen.de
SUMMARY:Reverse-engineering the Language of Thought (Jakub Szymanik)
DESCRIPTION:Jakub Szymanik is Associate professor at the Institute for Logic\, Language and Computation\, University of Amsterdam\, Netherlands. His talk will give insight into his work surrounding meaning\, computation\, and cognition\, more precisely natural language semantics\, including generalized quantifiers\, and reasoning. \nThe talk is part of the c:o/re Lecture Series Cultures of Research – Philosophy of AI_Optimist and Pessimist Views. \n 
URL:https://test.khk.rwth-aachen.de/event/reverse-engineering-the-language-of-thought-jakub-szymanik/
LOCATION:Stadtpalais/Online\, Theaterstraße 75\, Aachen\, 52062\, Germany
CATEGORIES:Lecture Series,Lecture Series 2022
ATTACH;FMTTYPE=image/png:https://test.khk.rwth-aachen.de/wp-content/uploads/2022/11/Copy-of-CO-RE-1.png
ORGANIZER;CN="c%3Ao/re":MAILTO:events@khk.rwth-aachen.de
END:VEVENT
BEGIN:VEVENT
DTSTART;TZID=Europe/Helsinki:20220530T133000
DTEND;TZID=Europe/Helsinki:20220601T120000
DTSTAMP:20260424T095731
CREATED:20230118T173157Z
LAST-MODIFIED:20230125T145817Z
UID:5615-1653917400-1654084800@test.khk.rwth-aachen.de
SUMMARY:The Use of Networks in Humanities and Social Sciences. Model\, Metaphor\, Method (Ana Bazzan with Phillip H. Roth and Alin Olteanu)
DESCRIPTION:The workshop organised by Ana Bazzan with Phillip H. Roth and Alin Olteanu charts the use of networks in humanities and social sciences and the consequences of their use for the way we perceive and understand science\, society and the world. \nPlease find the program here.
URL:https://test.khk.rwth-aachen.de/event/the-use-of-networks-in-humanities-and-social-sciences-model-metaphor-method-ana-bazzan-with-phillip-h-roth-and-alin-olteanu/
LOCATION:Stadtpalais/Online\, Theaterstraße 75\, Aachen\, 52062\, Germany
CATEGORIES:Workshops
ORGANIZER;CN="c%3Ao/re":MAILTO:events@khk.rwth-aachen.de
END:VEVENT
END:VCALENDAR